BEGIN:VCALENDAR
VERSION:2.0
PRODID:floktu.com
X-PUBLISHED-TTL:P1W
BEGIN:VEVENT
UID:FloktuSchedule25755@floktu.com
DTSTART:20181031T210000Z
SEQUENCE:0
TRANSP:OPAQUE
DTEND:20181031T220000Z
LOCATION:ZINC Federation Square\, Swanston Street\, Melbourne\, Victoria
SUMMARY:iappANZ 2018 Summit - Registration
DTSTAMP:20260425T215410Z
END:VEVENT
END:VCALENDAR