BEGIN:VCALENDAR
VERSION:2.0
PRODID:floktu.com
X-PUBLISHED-TTL:P1W
BEGIN:VEVENT
UID:FloktuSchedule25758@floktu.com
DTSTART:20181031T221500Z
SEQUENCE:0
TRANSP:OPAQUE
DTEND:20181031T234500Z
LOCATION:ZINC Federation Square\, Swanston Street\, Melbourne\, Victoria
SUMMARY:iappANZ 2018 Summit - Session 1: Mapping the terrain\; Emerging iss
 ues in regulation & privacy risk management
DTSTAMP:20260425T215548Z
END:VEVENT
END:VCALENDAR