BEGIN:VCALENDAR
VERSION:2.0
PRODID:floktu.com
X-PUBLISHED-TTL:P1W
BEGIN:VEVENT
UID:FloktuSchedule25760@floktu.com
DTSTART:20181031T235000Z
SEQUENCE:0
TRANSP:OPAQUE
DTEND:20181101T001500Z
LOCATION:ZINC Federation Square\, Swanston Street\, Melbourne\, Victoria
SUMMARY:iappANZ 2018 Summit - Morning Tea
DTSTAMP:20260425T215705Z
END:VEVENT
END:VCALENDAR