BEGIN:VCALENDAR
VERSION:2.0
PRODID:floktu.com
X-PUBLISHED-TTL:P1W
BEGIN:VEVENT
UID:FloktuSchedule25761@floktu.com
DTSTART:20181101T001500Z
SEQUENCE:0
TRANSP:OPAQUE
DTEND:20181101T014500Z
LOCATION:ZINC Federation Square\, Swanston Street\, Melbourne\, Victoria
SUMMARY:iappANZ 2018 Summit - Session 2: Here be dragons\; Risks & rewards 
 in exploiting data
DTSTAMP:20260425T215111Z
END:VEVENT
END:VCALENDAR