BEGIN:VCALENDAR
VERSION:2.0
PRODID:floktu.com
X-PUBLISHED-TTL:P1W
BEGIN:VEVENT
UID:FloktuSchedule25767@floktu.com
DTSTART:20181101T015500Z
SEQUENCE:0
TRANSP:OPAQUE
DTEND:20181101T025500Z
LOCATION:ZINC Federation Square\, Swanston Street\, Melbourne\, Victoria
SUMMARY:iappANZ 2018 Summit - Lunch
DTSTAMP:20260425T215104Z
END:VEVENT
END:VCALENDAR