BEGIN:VCALENDAR
VERSION:2.0
PRODID:floktu.com
X-PUBLISHED-TTL:P1W
BEGIN:VEVENT
UID:FloktuSchedule25768@floktu.com
DTSTART:20181101T025500Z
SEQUENCE:0
TRANSP:OPAQUE
DTEND:20181101T043500Z
LOCATION:ZINC Federation Square\, Swanston Street\, Melbourne\, Victoria
SUMMARY:iappANZ 2018 Summit - Session 3: Finding the path\; New solutions t
 o old problems
DTSTAMP:20260425T215018Z
END:VEVENT
END:VCALENDAR