BEGIN:VCALENDAR
VERSION:2.0
PRODID:floktu.com
X-PUBLISHED-TTL:P1W
BEGIN:VEVENT
UID:FloktuSchedule25776@floktu.com
DTSTART:20181101T043500Z
SEQUENCE:0
TRANSP:OPAQUE
DTEND:20181101T051000Z
LOCATION:ZINC Federation Square\, Swanston Street\, Melbourne\, Victoria
SUMMARY:iappANZ 2018 Summit - Afternoon Tea
DTSTAMP:20260425T215553Z
END:VEVENT
END:VCALENDAR