BEGIN:VCALENDAR
VERSION:2.0
PRODID:floktu.com
X-PUBLISHED-TTL:P1W
BEGIN:VEVENT
UID:FloktuSchedule25777@floktu.com
DTSTART:20181101T051000Z
SEQUENCE:0
TRANSP:OPAQUE
DTEND:20181101T063000Z
LOCATION:ZINC Federation Square\, Swanston Street\, Melbourne\, Victoria
SUMMARY:iappANZ 2018 Summit - Session 4: The seismic shift\; Disruptions & 
 how to handle them
DTSTAMP:20260425T215704Z
END:VEVENT
END:VCALENDAR