BEGIN:VCALENDAR
VERSION:2.0
PRODID:floktu.com
X-PUBLISHED-TTL:P1W
BEGIN:VEVENT
UID:FloktuSchedule25780@floktu.com
DTSTART:20181101T063000Z
SEQUENCE:0
TRANSP:OPAQUE
DTEND:20181101T080000Z
LOCATION:ZINC Federation Square\, Swanston Street\, Melbourne\, Victoria
SUMMARY:iappANZ 2018 Summit - Networking Drinks
DTSTAMP:20260425T215019Z
END:VEVENT
END:VCALENDAR