BEGIN:VCALENDAR
VERSION:2.0
PRODID:floktu.com
X-WR-TIMEZONE:Australia/Sydney
X-PUBLISHED-TTL:P1W
BEGIN:VEVENT
UID:FloktuSchedule25867@floktu.com
DTSTART;TZID=Australia/Sydney:20181102T093000
SEQUENCE:0
TRANSP:OPAQUE
DTEND;TZID=Australia/Sydney:20181102T120000
LOCATION:KPMG Australia\, 727 Collins Street\, Docklands\, Victoria
SUMMARY:iappANZ 2018 Summit - Workshop with Dr Fiona Tweedie - The balancin
 g act: Enabling openness while protecting privacy. Sponsored by KPMG.
DESCRIPTION:Increasingly\, organisations are recognising the value of being
  able to share information confidently internally and publish it externall
 y. The Australian Government's response to the Productivity Commission's r
 eport into data use and availability and the establishment of the Office o
 f the National Data Commissioner mean that businesses and Australian Gover
 nment agencies are going to be encourages and expected publish more data.\
 n\nHowever\, as the re-identification of Medicare data by researchers in 2
 017 demonstrated\, protecting privacy when publishing data is not straight
 forward.\n\nThis workshop will explore ways of classifying data according 
 to its sensitivity and ways in which high-value datasets could be de-ident
 ified for publication. It will include hands-on exercises and case-studies
  involving real datasets.\n\nThis workshop is sponsored by KPMG.
DTSTAMP:20260425T215109Z
END:VEVENT
BEGIN:VTIMEZONE
TZID:Australia/Sydney
X-LIC-LOCATION:Australia/Sydney
END:VTIMEZONE
END:VCALENDAR