BEGIN:VCALENDAR
VERSION:2.0
PRODID:floktu.com
X-WR-TIMEZONE:Australia/Sydney
X-PUBLISHED-TTL:P1W
BEGIN:VEVENT
UID:FloktuSchedule25868@floktu.com
DTSTART;TZID=Australia/Sydney:20181102T130000
SEQUENCE:0
TRANSP:OPAQUE
DTEND;TZID=Australia/Sydney:20181102T153000
LOCATION:KPMG Australia\, 727 Collins Street\, Docklands\, Victoria
SUMMARY:iappANZ 2018 Summit - Workshop with Professor David Lacey - The Reg
 ulation & Reality: Pragmatic approaches & pitfalls for data breach respond
 ers. Sponsored by KPMG.
DESCRIPTION:Drawing on his extensive experience and knowledge\, Professor D
 avid Lacey\, Managing Director of IDCARE\, will deliver practical insights
  and knowledge that you can apply to your own data breach response plans a
 nd processes.\n\nIDCARE is Australia and New Zealands only not-for-profit 
 charity that provides critical support for individuals confronting identit
 y and cyber security concerns. David and his team have seen first-hand the
  impact that an organisations data breach response can have on individuals
  as well as the company itself.\n\nDavid has chosen to donate his payment 
 for the workshop to IDCARE charitable activities.\n\nThis workshop is spon
 sored by KPMG.
DTSTAMP:20260425T232637Z
END:VEVENT
BEGIN:VTIMEZONE
TZID:Australia/Sydney
X-LIC-LOCATION:Australia/Sydney
END:VTIMEZONE
END:VCALENDAR