BEGIN:VCALENDAR
VERSION:2.0
PRODID:floktu.com
X-PUBLISHED-TTL:P1W
BEGIN:VEVENT
UID:FloktuSchedule25869@floktu.com
DTSTART:20181102T010000Z
SEQUENCE:0
TRANSP:OPAQUE
DTEND:20181102T020000Z
LOCATION:ZINC Federation Square\, Swanston Street\, Melbourne\, Victoria
SUMMARY:iappANZ 2018 Summit - Lunch
DTSTAMP:20260425T215157Z
END:VEVENT
END:VCALENDAR