BEGIN:VCALENDAR
VERSION:2.0
PRODID:floktu.com
X-WR-TIMEZONE:Australia/Sydney
X-PUBLISHED-TTL:P1W
BEGIN:VEVENT
UID:FloktuSchedule25872@floktu.com
DTSTART;TZID=Australia/Sydney:20181102T093000
SEQUENCE:0
TRANSP:OPAQUE
DTEND;TZID=Australia/Sydney:20181102T153000
LOCATION:KPMG Australia\, 727 Collins Street\, Docklands\, Victoria
SUMMARY:iappANZ 2018 Summit - Both Workshops
DESCRIPTION:Workshop with Dr Fiona Tweedie - The Balancing Act: Enabling Op
 enness While Protecting PrivacyIncreasingly\, organisations are recognisin
 g the value of being able to share information confidently internally and 
 publish it externally. The Australian Government's response to the Product
 ivity Commission's report into data use and availability and the establish
 ment of the Office of the National Data Commissioner mean that businesses 
 and Australian Government agencies are going to be encourages and expected
  publish more data.\n\nHowever\, as the re-identification of Medicare data
  by researchers in 2017 demonstrated\, protecting privacy when publishing 
 data is not straightforward.\n\nThis workshop will explore ways of classif
 ying data according to its sensitivity and ways in which high-value datase
 ts could be de-identified for publication. It will include hands-on exerci
 ses and case-studies involving real datasets.\n\n\n\nWorkshop with Profess
 or David Lacey - The regulation and reality: Pragmatic approaches and pitf
 alls for data breach respondersAs Australia and New Zealands only not-for-
 profit charity that provides critical support for individuals confronting 
 identity and cyber security concerns\, David and his team have seen first-
 hand the impact that an organisations data breach response can have on imp
 acted individuals as well as the company itself.\n\nIn this workshop you w
 ill gain practical and unique insights and knowledge that you can apply to
  your own data breach response plans and processes.\n\nDave has chosen to 
 donate his payment for the workshop to IDCares charitable activities.
DTSTAMP:20260425T232703Z
END:VEVENT
BEGIN:VTIMEZONE
TZID:Australia/Sydney
X-LIC-LOCATION:Australia/Sydney
END:VTIMEZONE
END:VCALENDAR