BEGIN:VCALENDAR
VERSION:2.0
PRODID:floktu.com
X-WR-TIMEZONE:Australia/Sydney
X-PUBLISHED-TTL:P1W
BEGIN:VEVENT
UID:FloktuSchedule25926@floktu.com
DTSTART;TZID=Australia/Sydney:20181101T122500
SEQUENCE:0
TRANSP:OPAQUE
DTEND;TZID=Australia/Sydney:20181101T125500
LOCATION:ZINC Federation Square\, Swanston Street\, Melbourne\, Victoria
SUMMARY:iappANZ 2018 Summit - Maintaining privacy\, transparency\, accounta
 bility & traceability in a highly automated world
DESCRIPTION:This session will talk about how governments need to adapt to e
 merging trends and technologies to ensure high integrity decision making t
 hat communities can trust.
DTSTAMP:20260425T215411Z
END:VEVENT
BEGIN:VTIMEZONE
TZID:Australia/Sydney
X-LIC-LOCATION:Australia/Sydney
END:VTIMEZONE
END:VCALENDAR