BEGIN:VCALENDAR
VERSION:2.0
PRODID:floktu.com
X-PUBLISHED-TTL:P1W
BEGIN:VEVENT
UID:FloktuSchedule25927@floktu.com
DTSTART:20181101T035000Z
SEQUENCE:0
TRANSP:OPAQUE
DTEND:20181101T043500Z
LOCATION:ZINC Federation Square\, Swanston Street\, Melbourne\, Victoria
SUMMARY:iappANZ 2018 Summit - The murderer who stole my identity
DESCRIPTION:Mike Finkel\, author of True Story: Murder\, Memoir\, Mea Culpa
  (and subject of the film True Story) will tell the incredible story of hi
 s experiences with identity theft\, deception\, celebrity\, and privacy.
DTSTAMP:20260425T215549Z
END:VEVENT
END:VCALENDAR