BEGIN:VCALENDAR
VERSION:2.0
PRODID:floktu.com
X-WR-TIMEZONE:Australia/Sydney
X-PUBLISHED-TTL:P1W
BEGIN:VEVENT
UID:FloktuSchedule25927@floktu.com
DTSTART;TZID=Australia/Sydney:20181101T145000
SEQUENCE:0
TRANSP:OPAQUE
DTEND;TZID=Australia/Sydney:20181101T153500
LOCATION:ZINC Federation Square\, Swanston Street\, Melbourne\, Victoria
SUMMARY:iappANZ 2018 Summit - The murderer who stole my identity
DESCRIPTION:Mike Finkel\, author of True Story: Murder\, Memoir\, Mea Culpa
  (and subject of the film True Story) will tell the incredible story of hi
 s experiences with identity theft\, deception\, celebrity\, and privacy.
DTSTAMP:20260425T215548Z
END:VEVENT
BEGIN:VTIMEZONE
TZID:Australia/Sydney
X-LIC-LOCATION:Australia/Sydney
END:VTIMEZONE
END:VCALENDAR