BEGIN:VCALENDAR
VERSION:2.0
PRODID:floktu.com
X-PUBLISHED-TTL:P1W
BEGIN:VEVENT
UID:FloktuSchedule25955@floktu.com
DTSTART:20181031T224000Z
SEQUENCE:0
TRANSP:OPAQUE
DTEND:20181031T230500Z
LOCATION:ZINC Federation Square\, Swanston Street\, Melbourne\, Victoria
SUMMARY:iappANZ 2018 Summit - NZ Privacy Law Reform update\; the shape of t
 hings to come
DESCRIPTION:John Edwards\, NZ Privacy Commissioner\, will update delegates 
 on NZs Privacy Bill and outline the upcoming changes\, and will give an ov
 erview of key New Zealand privacy developments and cases in the year.
DTSTAMP:20260425T215415Z
END:VEVENT
END:VCALENDAR