BEGIN:VCALENDAR
VERSION:2.0
PRODID:floktu.com
X-WR-TIMEZONE:Australia/Sydney
X-PUBLISHED-TTL:P1W
BEGIN:VEVENT
UID:FloktuSchedule25955@floktu.com
DTSTART;TZID=Australia/Sydney:20181101T094000
SEQUENCE:0
TRANSP:OPAQUE
DTEND;TZID=Australia/Sydney:20181101T100500
LOCATION:ZINC Federation Square\, Swanston Street\, Melbourne\, Victoria
SUMMARY:iappANZ 2018 Summit - NZ Privacy Law Reform update\; the shape of t
 hings to come
DESCRIPTION:John Edwards\, NZ Privacy Commissioner\, will update delegates 
 on NZs Privacy Bill and outline the upcoming changes\, and will give an ov
 erview of key New Zealand privacy developments and cases in the year.
DTSTAMP:20260425T232848Z
END:VEVENT
BEGIN:VTIMEZONE
TZID:Australia/Sydney
X-LIC-LOCATION:Australia/Sydney
END:VTIMEZONE
END:VCALENDAR