BEGIN:VCALENDAR
VERSION:2.0
PRODID:floktu.com
X-WR-TIMEZONE:Australia/Sydney
X-PUBLISHED-TTL:P1W
BEGIN:VEVENT
UID:FloktuSchedule25956@floktu.com
DTSTART;TZID=Australia/Sydney:20181101T100500
SEQUENCE:0
TRANSP:OPAQUE
DTEND;TZID=Australia/Sydney:20181101T105000
LOCATION:ZINC Federation Square\, Swanston Street\, Melbourne\, Victoria
SUMMARY:iappANZ 2018 Summit - 10 years in the life of a global CPO
DESCRIPTION:In conversation with Melanie Marks  President\, iappANZ.\n\nKas
 ey Chappelle has held senior privacy roles in global powerhouses such as V
 odafone and Amex\, and is now Chief Privacy Officer for the rising fintech
  startup GoCardless. In this session\, Kasey will talk about her career ar
 c and what she has learned serving as a global CPO over the last tumultuou
 s decade of privacy evolution.
DTSTAMP:20260425T215609Z
END:VEVENT
BEGIN:VTIMEZONE
TZID:Australia/Sydney
X-LIC-LOCATION:Australia/Sydney
END:VTIMEZONE
END:VCALENDAR