BEGIN:VCALENDAR
VERSION:2.0
PRODID:floktu.com
X-PUBLISHED-TTL:P1W
BEGIN:VEVENT
UID:FloktuSchedule25957@floktu.com
DTSTART:20181101T001600Z
SEQUENCE:0
TRANSP:OPAQUE
DTEND:20181101T005500Z
LOCATION:ZINC Federation Square\, Swanston Street\, Melbourne\, Victoria
SUMMARY:iappANZ 2018 Summit - Panel discussion: Think global\, act local\; 
 Regulation in the age of international big data
DESCRIPTION:Featuring Sven Bluemmel\, John Edwards & Angelene Falk\n\nModer
 ator: Richard Bean
DTSTAMP:20260425T215547Z
END:VEVENT
END:VCALENDAR