BEGIN:VCALENDAR
VERSION:2.0
PRODID:floktu.com
X-WR-TIMEZONE:Australia/Sydney
X-PUBLISHED-TTL:P1W
BEGIN:VEVENT
UID:FloktuSchedule25957@floktu.com
DTSTART;TZID=Australia/Sydney:20181101T111600
SEQUENCE:0
TRANSP:OPAQUE
DTEND;TZID=Australia/Sydney:20181101T115500
LOCATION:ZINC Federation Square\, Swanston Street\, Melbourne\, Victoria
SUMMARY:iappANZ 2018 Summit - Panel discussion: Think global\, act local\; 
 Regulation in the age of international big data
DESCRIPTION:Featuring Sven Bluemmel\, John Edwards & Angelene Falk\n\nModer
 ator: Richard Bean
DTSTAMP:20260425T215554Z
END:VEVENT
BEGIN:VTIMEZONE
TZID:Australia/Sydney
X-LIC-LOCATION:Australia/Sydney
END:VTIMEZONE
END:VCALENDAR