BEGIN:VCALENDAR
VERSION:2.0
PRODID:floktu.com
X-PUBLISHED-TTL:P1W
BEGIN:VEVENT
UID:FloktuSchedule25958@floktu.com
DTSTART:20181101T005500Z
SEQUENCE:0
TRANSP:OPAQUE
DTEND:20181101T012500Z
LOCATION:ZINC Federation Square\, Swanston Street\, Melbourne\, Victoria
SUMMARY:iappANZ 2018 Summit - Role of the Government Chief Privacy Officer\
 ; Every team needs a coach
DESCRIPTION:In this session\, Russell will reflect on his time in the role 
 of NZ Government CPO and explain why every government should have a Chief 
 Privacy Officer.
DTSTAMP:20260425T215715Z
END:VEVENT
END:VCALENDAR