BEGIN:VCALENDAR
VERSION:2.0
PRODID:floktu.com
X-PUBLISHED-TTL:P1W
BEGIN:VEVENT
UID:FloktuSchedule25959@floktu.com
DTSTART:20181101T053500Z
SEQUENCE:0
TRANSP:OPAQUE
DTEND:20181101T061500Z
LOCATION:ZINC Federation Square\, Swanston Street\, Melbourne\, Victoria
SUMMARY:iappANZ 2018 Summit - Panel discussion: Seismic shift\; How privacy
  & identity is changing & what this means
DESCRIPTION:This session will explore how technology and emerging trends ar
 e challenges our concepts of privacy and identity\, and how this may shape
  how we interact with our institutions and each other.\n\nFeaturing:Julie 
 Inman Grant\, Martin Cocker and Dr Carlene Mahoney\n\nModerator: Malcolm C
 rompton
DTSTAMP:20260425T215339Z
END:VEVENT
END:VCALENDAR