BEGIN:VCALENDAR
VERSION:2.0
PRODID:floktu.com
X-WR-TIMEZONE:Australia/Sydney
X-PUBLISHED-TTL:P1W
BEGIN:VEVENT
UID:FloktuSchedule25959@floktu.com
DTSTART;TZID=Australia/Sydney:20181101T163500
SEQUENCE:0
TRANSP:OPAQUE
DTEND;TZID=Australia/Sydney:20181101T171500
LOCATION:ZINC Federation Square\, Swanston Street\, Melbourne\, Victoria
SUMMARY:iappANZ 2018 Summit - Panel discussion: Seismic shift\; How privacy
  & identity is changing & what this means
DESCRIPTION:This session will explore how technology and emerging trends ar
 e challenges our concepts of privacy and identity\, and how this may shape
  how we interact with our institutions and each other.\n\nFeaturing:Julie 
 Inman Grant\, Martin Cocker and Dr Carlene Mahoney\n\nModerator: Malcolm C
 rompton
DTSTAMP:20260425T215338Z
END:VEVENT
BEGIN:VTIMEZONE
TZID:Australia/Sydney
X-LIC-LOCATION:Australia/Sydney
END:VTIMEZONE
END:VCALENDAR