BEGIN:VCALENDAR
VERSION:2.0
PRODID:floktu.com
X-PUBLISHED-TTL:P1W
BEGIN:VEVENT
UID:FloktuSchedule26002@floktu.com
DTSTART:20181031T221600Z
SEQUENCE:0
TRANSP:OPAQUE
DTEND:20181031T224000Z
LOCATION:ZINC Federation Square\, Swanston Street\, Melbourne\, Victoria
SUMMARY:iappANZ 2018 Summit - Australian law reform update\; Charting new t
 erritory in Australian privacy law
DESCRIPTION:Angelene Falk\, the Australian Information and Privacy Commissi
 oner\, will update delegates on recent changes in Australian privacy law i
 ncluding the Notifiable Data Breaches Scheme and the Australian Government
  Agencies Privacy Code\, and provide an overview of key privacy developmen
 ts and cases in the year.
DTSTAMP:20260425T215247Z
END:VEVENT
END:VCALENDAR