BEGIN:VCALENDAR
VERSION:2.0
PRODID:floktu.com
X-PUBLISHED-TTL:P1W
BEGIN:VEVENT
UID:FloktuSchedule26003@floktu.com
DTSTART:20181101T032000Z
SEQUENCE:0
TRANSP:OPAQUE
DTEND:20181101T033500Z
LOCATION:ZINC Federation Square\, Swanston Street\, Melbourne\, Victoria
SUMMARY:iappANZ 2018 Summit - Lightning talk: GDPR & blockchain\; is there 
 a happy ever after?
DESCRIPTION:Ash will describe the conflicts between GDPR and blockchain (an
 d other emerging technologies) and how affected companies are addressing t
 hese conflicts.
DTSTAMP:20260425T232719Z
END:VEVENT
END:VCALENDAR