BEGIN:VCALENDAR
VERSION:2.0
PRODID:floktu.com
X-WR-TIMEZONE:Australia/Sydney
X-PUBLISHED-TTL:P1W
BEGIN:VEVENT
UID:FloktuSchedule26003@floktu.com
DTSTART;TZID=Australia/Sydney:20181101T142000
SEQUENCE:0
TRANSP:OPAQUE
DTEND;TZID=Australia/Sydney:20181101T143500
LOCATION:ZINC Federation Square\, Swanston Street\, Melbourne\, Victoria
SUMMARY:iappANZ 2018 Summit - Lightning talk: GDPR & blockchain\; is there 
 a happy ever after?
DESCRIPTION:Ash will describe the conflicts between GDPR and blockchain (an
 d other emerging technologies) and how affected companies are addressing t
 hese conflicts.
DTSTAMP:20260425T215231Z
END:VEVENT
BEGIN:VTIMEZONE
TZID:Australia/Sydney
X-LIC-LOCATION:Australia/Sydney
END:VTIMEZONE
END:VCALENDAR