BEGIN:VCALENDAR
VERSION:2.0
PRODID:floktu.com
X-PUBLISHED-TTL:P1W
BEGIN:VEVENT
UID:FloktuSchedule26004@floktu.com
DTSTART:20181101T061500Z
SEQUENCE:0
TRANSP:OPAQUE
DTEND:20181101T063000Z
LOCATION:ZINC Federation Square\, Swanston Street\, Melbourne\, Victoria
SUMMARY:iappANZ 2018 Summit - Summit close & words from our sponsor - Commo
 nwealth Bank
DTSTAMP:20260425T215231Z
END:VEVENT
END:VCALENDAR