BEGIN:VCALENDAR
VERSION:2.0
PRODID:floktu.com
X-WR-TIMEZONE:Australia/Sydney
X-PUBLISHED-TTL:P1W
BEGIN:VEVENT
UID:FloktuSchedule26031@floktu.com
DTSTART;TZID=Australia/Sydney:20181101T143500
SEQUENCE:0
TRANSP:OPAQUE
DTEND;TZID=Australia/Sydney:20181101T145000
LOCATION:ZINC Federation Square\, Swanston Street\, Melbourne\, Victoria
SUMMARY:iappANZ 2018 Summit - Lightning talk: Trust\, privacy & emerging te
 chnologies
DESCRIPTION:Natasha will describe how individuals trust emerging technologi
 es\, what factors are important signals of trustworthiness\, and how indiv
 iduals perceive unique privacy threats in relation to emerging technologie
 s. She will also discuss how these differ from non-emerging technologies b
 y describing her findings from her PhD research at the University of Cante
 rbury\, passed in September 2018.
DTSTAMP:20260425T215446Z
END:VEVENT
BEGIN:VTIMEZONE
TZID:Australia/Sydney
X-LIC-LOCATION:Australia/Sydney
END:VTIMEZONE
END:VCALENDAR