BEGIN:VCALENDAR
VERSION:2.0
PRODID:floktu.com
X-PUBLISHED-TTL:P1W
BEGIN:VEVENT
UID:FloktuSchedule26032@floktu.com
DTSTART:20181101T030500Z
SEQUENCE:0
TRANSP:OPAQUE
DTEND:20181101T032000Z
LOCATION:ZINC Federation Square\, Swanston Street\, Melbourne\, Victoria
SUMMARY:iappANZ 2018 Summit - Lightning talk: Talking about humanising priv
 acy
DESCRIPTION:Ilana and Marta will talk about humanising privacy by recognisi
 ng the emotional context of an individuals situation\, adopting human-cent
 ric language\, and tailoring interactions.
DTSTAMP:20260425T215156Z
END:VEVENT
END:VCALENDAR