BEGIN:VCALENDAR
VERSION:2.0
PRODID:floktu.com
X-WR-TIMEZONE:Australia/Sydney
X-PUBLISHED-TTL:P1W
BEGIN:VEVENT
UID:FloktuSchedule26033@floktu.com
DTSTART;TZID=Australia/Sydney:20181101T161000
SEQUENCE:0
TRANSP:OPAQUE
DTEND;TZID=Australia/Sydney:20181101T163500
LOCATION:ZINC Federation Square\, Swanston Street\, Melbourne\, Victoria
SUMMARY:iappANZ 2018 Summit - What can privacy & cyber safety professionals
  learn from each other?
DESCRIPTION:In this session\, the Australian eSafety Commissioner Julie Inm
 an Grant and Martin Cocker of Netsafe (NZ) will talk about emerging challe
 nges in online safety\, the areas where privacy and safety intersect\, and
  what these two disciplines can learn from each other.
DTSTAMP:20260425T215416Z
END:VEVENT
BEGIN:VTIMEZONE
TZID:Australia/Sydney
X-LIC-LOCATION:Australia/Sydney
END:VTIMEZONE
END:VCALENDAR