BEGIN:VCALENDAR
VERSION:2.0
PRODID:floktu.com
X-PUBLISHED-TTL:P1W
BEGIN:VEVENT
UID:FloktuSchedule26037@floktu.com
DTSTART:20181031T221000Z
SEQUENCE:0
TRANSP:OPAQUE
DTEND:20181031T221500Z
LOCATION:ZINC Federation Square\, Swanston Street\, Melbourne\, Victoria
SUMMARY:iappANZ 2018 Summit - Words from our sponsor - KPMG
DTSTAMP:20260425T215340Z
END:VEVENT
END:VCALENDAR