BEGIN:VCALENDAR
VERSION:2.0
PRODID:floktu.com
X-PUBLISHED-TTL:P1W
BEGIN:VEVENT
UID:FloktuSchedule26038@floktu.com
DTSTART:20181101T025500Z
SEQUENCE:0
TRANSP:OPAQUE
DTEND:20181101T030500Z
LOCATION:ZINC Federation Square\, Swanston Street\, Melbourne\, Victoria
SUMMARY:iappANZ 2018 Summit - Words from our sponsor - DataGuidance
DTSTAMP:20260425T215410Z
END:VEVENT
END:VCALENDAR